BEGIN:VCALENDAR
VERSION:2.0
PRODID:-//National Capital Pres - ECPv6.15.18//NONSGML v1.0//EN
CALSCALE:GREGORIAN
METHOD:PUBLISH
X-ORIGINAL-URL:https://thepresbytery.org
X-WR-CALDESC:Events for National Capital Pres
REFRESH-INTERVAL;VALUE=DURATION:PT1H
X-Robots-Tag:noindex
X-PUBLISHED-TTL:PT1H
BEGIN:VTIMEZONE
TZID:America/New_York
BEGIN:DAYLIGHT
TZOFFSETFROM:-0500
TZOFFSETTO:-0400
TZNAME:EDT
DTSTART:20250309T070000
END:DAYLIGHT
BEGIN:STANDARD
TZOFFSETFROM:-0400
TZOFFSETTO:-0500
TZNAME:EST
DTSTART:20251102T060000
END:STANDARD
BEGIN:DAYLIGHT
TZOFFSETFROM:-0500
TZOFFSETTO:-0400
TZNAME:EDT
DTSTART:20260308T070000
END:DAYLIGHT
BEGIN:STANDARD
TZOFFSETFROM:-0400
TZOFFSETTO:-0500
TZNAME:EST
DTSTART:20261101T060000
END:STANDARD
BEGIN:DAYLIGHT
TZOFFSETFROM:-0500
TZOFFSETTO:-0400
TZNAME:EDT
DTSTART:20270314T070000
END:DAYLIGHT
BEGIN:STANDARD
TZOFFSETFROM:-0400
TZOFFSETTO:-0500
TZNAME:EST
DTSTART:20271107T060000
END:STANDARD
END:VTIMEZONE
BEGIN:VEVENT
DTSTART;TZID=America/New_York:20261003T090000
DTEND;TZID=America/New_York:20261003T153000
DTSTAMP:20260425T130222
CREATED:20260317T213141Z
LAST-MODIFIED:20260417T185759Z
UID:1973-1791018000-1791041400@thepresbytery.org
SUMMARY:Mini Matthew 25 Summit
DESCRIPTION:Mini Matthew 25 Summit\nSaturday\, October 3\, 2026\n9:00 AM to 3:30 PM\nNew York Avenue Presbyterian Church\n1313 New York Avenue\, NW\nWashington\, DC  20005 \nNational Capital Presbytery\, Baltimore Presbytery and New Castle Presbytery will host a Mini Matthew 25 Summit on Saturday\, October 3\, 2026\, at New York Avenue Presbyterian Church in Washington DC from 9:00 AM to 3:30 PM. We welcome Rev. Dr. William Yoo as the keynote speaker and preacher. Dr. William Yoo is associate professor of American religious and cultural history at Columbia Theological Seminary. He is the author of Reckoning with History: Settler Colonialism\, Slavery\, and the Making of American Christianity and several other titles. He also serves on the Board of Directors for the Montreat Conference Center. Our time will include Bible Study\, Workshops (pick two: Building Congregational Vitality; Dismantling Structural Racism; Eradicating Systemic Poverty)\, Lunch and World Communion Worship.  \nCost: $40 per person OR $100 per church team (3 or more people) \n  \n\n\n                \n                        \n                            Mini Matthew 25 Registration\n                             \n							"*" indicates required fields \n                        \n                        InstagramThis field is for validation purposes and should be left unchanged.I am registering as ...*\n			\n					\n					an individual\n			\n			\n					\n					a church team\n			Names and Emails of those on Church Team*Please list the names and email addresses of others attending this event from your churchName*\n                            \n                            \n                                                    \n                                                    First Name\n                                                \n                            \n                            \n                                                    \n                                                    Last Name\n                                                \n                            \n                        Email*\n                            \n                        Presbytery*Church/Organization*Workshop Interest (select up to 2 workshops)\n								\n								Building Congregational Vitality\n							\n								\n								Dismantling Structural Racism\n							\n								\n								Eradicating Systematic Poverty\n							Describe any accessibility needs.Describe any food allergies.Cost (includes programming and lunch)*\n			\n					\n					Individual ($40)\n			\n			\n					\n					Church Team ($100)\n			Total\n							\n						Credit Card\n			CAPTCHA
URL:https://thepresbytery.org/event/mini-matthew-25-summit/
LOCATION:New York Avenue Presbyterian Church\, 1313 New York Ave NW\, Washington DC\, 20005
CATEGORIES:Dismantling Racism,NCP
ATTACH;FMTTYPE=image/png:https://thepresbytery.org/wp-content/uploads/2026/03/Mini-Matthew-25-3.png
END:VEVENT
END:VCALENDAR